BEGIN:VCALENDAR
VERSION:2.0
PRODID:-//Tukios.com/
BEGIN:VEVENT
UID:f4fd3b5a-049a-4b7d-8b8d-dcadd3da7507@www.browndawsonflick.com
DTSTAMP:20260423T214403Z
DTSTART:20260428T170000Z
DTEND:20260428T180000Z
SUMMARY:Funeral Service
DESCRIPTION:
URL:https://www.browndawsonflick.com/obituaries/gwendolyn-whitaker
LOCATION: 1350 Millville Ave  Hamilton OH 45013
GEO:39.405088;-84.607383
END:VEVENT
END:VCALENDAR