BEGIN:VCALENDAR
VERSION:2.0
PRODID:-//Tukios.com/
BEGIN:VEVENT
UID:c040a7ea-38f4-47fc-8dcb-76d30b91414c@www.browndawsonflick.com
DTSTAMP:20260423T200251Z
DTSTART:20260427T150000Z
DTEND:20260427T170000Z
SUMMARY:Visitation
DESCRIPTION:
URL:https://www.browndawsonflick.com/obituaries/janet-leak
LOCATION: 1350 Millville Ave  Hamilton OH 45013
GEO:39.405088;-84.607383
END:VEVENT
END:VCALENDAR