BEGIN:VCALENDAR
VERSION:2.0
PRODID:-//Tukios.com/
BEGIN:VEVENT
UID:cd7608e4-577e-4449-9e4e-b7e529fad63b@www.browndawsonflick.com
DTSTAMP:20260423T200328Z
DTSTART:20260427T170000Z
DTEND:20260427T180000Z
SUMMARY:Funeral Service
DESCRIPTION:
URL:https://www.browndawsonflick.com/obituaries/janet-leak
LOCATION: 1350 Millville Ave  Hamilton OH 45013
GEO:39.405088;-84.607383
END:VEVENT
END:VCALENDAR