BEGIN:VCALENDAR
VERSION:2.0
PRODID:-//Tukios.com/
BEGIN:VEVENT
UID:30616620-9b11-4f49-ac17-577f2219130b@www.browndawsonflick.com
DTSTAMP:20260425T190019Z
DTSTART:20260429T160000Z
DTEND:20260429T170000Z
SUMMARY:Funeral Service
DESCRIPTION:
URL:https://www.browndawsonflick.com/obituaries/lisa-anderson-campbell
LOCATION: 1350 Millville Ave  Hamilton OH 45013
GEO:39.405088;-84.607383
END:VEVENT
END:VCALENDAR