BEGIN:VCALENDAR
VERSION:2.0
PRODID:-//Tukios.com/
BEGIN:VEVENT
UID:1c5f0529-03f1-4f6f-9b06-5e47908d2c73@www.browndawsonflick.com
DTSTAMP:20260425T185744Z
DTSTART:20260429T170000Z
DTEND:20260429T173000Z
SUMMARY:Burial
DESCRIPTION:
URL:https://www.browndawsonflick.com/obituaries/lisa-anderson-campbell
LOCATION: 2421 Princeton Road  Hamilton OH 45011
GEO:39.3916957;-84.527303
END:VEVENT
END:VCALENDAR