BEGIN:VCALENDAR
VERSION:2.0
PRODID:-//Tukios.com/
BEGIN:VEVENT
UID:5e027019-c5ee-42b9-9e54-ca22ffea4063@www.browndawsonflick.com
DTSTAMP:20260425T185837Z
DTSTART:20260429T150000Z
DTEND:20260429T160000Z
SUMMARY:Visitation
DESCRIPTION:
URL:https://www.browndawsonflick.com/obituaries/lisa-anderson-campbell
LOCATION: 1350 Millville Avenue  Hamilton OH 45013
GEO:39.405088;-84.607383
END:VEVENT
END:VCALENDAR