BEGIN:VCALENDAR
VERSION:2.0
PRODID:-//Tukios.com/
BEGIN:VEVENT
UID:c9f0a5ac-68a4-4c76-9db7-1f8d21007de3@www.browndawsonflick.com
DTSTAMP:20260420T204301Z
DTSTART:20260422T140000Z
DTEND:20260422T160000Z
SUMMARY:Visitation
DESCRIPTION:
URL:https://www.browndawsonflick.com/obituaries/patricia-patty-sparks
LOCATION: 5450 College Corner Pike  Oxford OH 45056
GEO:39.5242748;-84.7639488
END:VEVENT
END:VCALENDAR