BEGIN:VCALENDAR
VERSION:2.0
PRODID:-//Tukios.com/
BEGIN:VEVENT
UID:f8da54fb-4116-4ae1-ba9d-9ca91f3677a7@www.browndawsonflick.com
DTSTAMP:20260420T204353Z
DTSTART:20260422T160000Z
DTEND:20260422T170000Z
SUMMARY:Funeral Service
DESCRIPTION:
URL:https://www.browndawsonflick.com/obituaries/patricia-patty-sparks
LOCATION: 5450 College Corner Pike  Oxford OH 45056
GEO:39.5242748;-84.7639488
END:VEVENT
END:VCALENDAR