BEGIN:VCALENDAR
VERSION:2.0
PRODID:-//Tukios.com/
BEGIN:VEVENT
UID:7f799fcc-5373-4c17-88d5-9709e298c348@www.browndawsonflick.com
DTSTAMP:20260426T003502Z
DTSTART:20260504T140000Z
DTEND:20260504T150000Z
SUMMARY:Visitation
DESCRIPTION:
URL:https://www.browndawsonflick.com/obituaries/paul-smith
LOCATION:Pater Avenue Worship Center 2104 Pater Avenue  Hamilton OH 45015
GEO:39.3728786;-84.5396547
END:VEVENT
END:VCALENDAR