BEGIN:VCALENDAR
VERSION:2.0
PRODID:-//Tukios.com/
BEGIN:VEVENT
UID:d5bcdd45-bac8-4c35-a9bd-20964391fdf6@www.browndawsonflick.com
DTSTAMP:20260426T003456Z
DTSTART:20260504T150000Z
DTEND:20260504T160000Z
SUMMARY:Funeral Service
DESCRIPTION:
URL:https://www.browndawsonflick.com/obituaries/paul-smith
LOCATION:Pater Avenue Worship Center 2104 Pater Avenue  Hamilton OH 45015
GEO:39.3728786;-84.5396547
END:VEVENT
END:VCALENDAR